BEGIN:VCALENDAR
VERSION:2.0
PRODID:-//Concejo Municipal de Pitalito - ECPv5.16.2.1//NONSGML v1.0//EN
CALSCALE:GREGORIAN
METHOD:PUBLISH
X-ORIGINAL-URL:https://concejopitalito.gov.co/contenido
X-WR-CALDESC:Eventos para Concejo Municipal de Pitalito
REFRESH-INTERVAL;VALUE=DURATION:PT1H
X-Robots-Tag:noindex
X-PUBLISHED-TTL:PT1H
BEGIN:VTIMEZONE
TZID:UTC
BEGIN:STANDARD
TZOFFSETFROM:+0000
TZOFFSETTO:+0000
TZNAME:UTC
DTSTART:20220101T000000
END:STANDARD
TZID:America/New_York
BEGIN:DAYLIGHT
TZOFFSETFROM:-0500
TZOFFSETTO:-0400
TZNAME:EDT
DTSTART:20220313T070000
END:DAYLIGHT
BEGIN:STANDARD
TZOFFSETFROM:-0400
TZOFFSETTO:-0500
TZNAME:EST
DTSTART:20221106T060000
END:STANDARD
END:VTIMEZONE
BEGIN:VEVENT
DTSTART;TZID=UTC:20220301T090000
DTEND;TZID=UTC:20220301T170000
DTSTAMP:20260419T090858
CREATED:20220301T190106Z
LAST-MODIFIED:20220301T190106Z
UID:1067-1646125200-1646154000@concejopitalito.gov.co
SUMMARY:SES MAR 01/2022 PRORROGA
DESCRIPTION:
URL:https://concejopitalito.gov.co/contenido/evento/ses-mar-01-2022-prorroga/
END:VEVENT
BEGIN:VEVENT
DTSTART;TZID=America/New_York:20220317T090000
DTEND;TZID=America/New_York:20220317T170000
DTSTAMP:20260419T090858
CREATED:20220317T211557Z
LAST-MODIFIED:20220317T211557Z
UID:1092-1647507600-1647536400@concejopitalito.gov.co
SUMMARY:SES EXT MAR 17/2022
DESCRIPTION:
URL:https://concejopitalito.gov.co/contenido/evento/ses-ext-mar-17-2022/
END:VEVENT
BEGIN:VEVENT
DTSTART;TZID=America/New_York:20220318T090000
DTEND;TZID=America/New_York:20220318T170000
DTSTAMP:20260419T090858
CREATED:20220317T211736Z
LAST-MODIFIED:20220317T211736Z
UID:1094-1647594000-1647622800@concejopitalito.gov.co
SUMMARY:SES EXT MAR 18/2022
DESCRIPTION:
URL:https://concejopitalito.gov.co/contenido/evento/ses-ext-mar-18-2022/
END:VEVENT
BEGIN:VEVENT
DTSTART;TZID=America/New_York:20220329T090000
DTEND;TZID=America/New_York:20220329T170000
DTSTAMP:20260419T090858
CREATED:20220329T143128Z
LAST-MODIFIED:20220329T143128Z
UID:1103-1648544400-1648573200@concejopitalito.gov.co
SUMMARY:SES EXT MAR 29/2022
DESCRIPTION:
URL:https://concejopitalito.gov.co/contenido/evento/ses-ext-mar-29-2022/
END:VEVENT
BEGIN:VEVENT
DTSTART;TZID=America/New_York:20220330T090000
DTEND;TZID=America/New_York:20220330T170000
DTSTAMP:20260419T090858
CREATED:20220329T170847Z
LAST-MODIFIED:20220329T170847Z
UID:1108-1648630800-1648659600@concejopitalito.gov.co
SUMMARY:SES EXT MAR 30/2022
DESCRIPTION:
URL:https://concejopitalito.gov.co/contenido/evento/ses-ext-mar-30-2022/
END:VEVENT
BEGIN:VEVENT
DTSTART;TZID=America/New_York:20220331T090000
DTEND;TZID=America/New_York:20220331T170000
DTSTAMP:20260419T090858
CREATED:20220330T141413Z
LAST-MODIFIED:20220330T141554Z
UID:1116-1648717200-1648746000@concejopitalito.gov.co
SUMMARY:SES EXT MAR 31/2022
DESCRIPTION:
URL:https://concejopitalito.gov.co/contenido/evento/ses-ext-mar-30-2022-2/
END:VEVENT
END:VCALENDAR