BEGIN:VCALENDAR
VERSION:2.0
PRODID:-//Concejo Municipal de Pitalito - ECPv5.16.2.1//NONSGML v1.0//EN
CALSCALE:GREGORIAN
METHOD:PUBLISH
X-WR-CALNAME:Concejo Municipal de Pitalito
X-ORIGINAL-URL:https://concejopitalito.gov.co/contenido
X-WR-CALDESC:Eventos para Concejo Municipal de Pitalito
REFRESH-INTERVAL;VALUE=DURATION:PT1H
X-Robots-Tag:noindex
X-PUBLISHED-TTL:PT1H
BEGIN:VTIMEZONE
TZID:UTC
BEGIN:STANDARD
TZOFFSETFROM:+0000
TZOFFSETTO:+0000
TZNAME:UTC
DTSTART:20220101T000000
END:STANDARD
END:VTIMEZONE
BEGIN:VEVENT
DTSTART;TZID=UTC:20220228T090000
DTEND;TZID=UTC:20220228T170000
DTSTAMP:20260419T103336
CREATED:20220225T192933Z
LAST-MODIFIED:20220225T192933Z
UID:1021-1646038800-1646067600@concejopitalito.gov.co
SUMMARY:CLAUSURA DE SESIONES ORDINARIAS DEL MES DE FEBRERO
DESCRIPTION:
URL:https://concejopitalito.gov.co/contenido/evento/clausura-de-sesiones-ordinarias-del-mes-de-febrero/
END:VEVENT
END:VCALENDAR