BEGIN:VCALENDAR
VERSION:2.0
PRODID:-//Concejo Municipal de Pitalito - ECPv5.16.2.1//NONSGML v1.0//EN
CALSCALE:GREGORIAN
METHOD:PUBLISH
X-ORIGINAL-URL:https://concejopitalito.gov.co/contenido
X-WR-CALDESC:Eventos para Concejo Municipal de Pitalito
REFRESH-INTERVAL;VALUE=DURATION:PT1H
X-Robots-Tag:noindex
X-PUBLISHED-TTL:PT1H
BEGIN:VTIMEZONE
TZID:UTC
BEGIN:STANDARD
TZOFFSETFROM:+0000
TZOFFSETTO:+0000
TZNAME:UTC
DTSTART:20220101T000000
END:STANDARD
END:VTIMEZONE
BEGIN:VEVENT
DTSTART;TZID=UTC:20220223T080000
DTEND;TZID=UTC:20220223T170000
DTSTAMP:20260419T121038
CREATED:20220223T183709Z
LAST-MODIFIED:20220223T183709Z
UID:1008-1645603200-1645635600@concejopitalito.gov.co
SUMMARY:CITACIÓN SECRETARÍA DE GOBIERNO - INFORME SEGURIDAD
DESCRIPTION:
URL:https://concejopitalito.gov.co/contenido/evento/citacion-secretaria-de-gobierno-informe-seguridad/
END:VEVENT
END:VCALENDAR