BEGIN:VCALENDAR
VERSION:2.0
PRODID:-//Concejo Municipal de Pitalito - ECPv5.16.2.1//NONSGML v1.0//EN
CALSCALE:GREGORIAN
METHOD:PUBLISH
X-WR-CALNAME:Concejo Municipal de Pitalito
X-ORIGINAL-URL:https://concejopitalito.gov.co/contenido
X-WR-CALDESC:Eventos para Concejo Municipal de Pitalito
REFRESH-INTERVAL;VALUE=DURATION:PT1H
X-Robots-Tag:noindex
X-PUBLISHED-TTL:PT1H
BEGIN:VTIMEZONE
TZID:UTC
BEGIN:STANDARD
TZOFFSETFROM:+0000
TZOFFSETTO:+0000
TZNAME:UTC
DTSTART:20220101T000000
END:STANDARD
END:VTIMEZONE
BEGIN:VEVENT
DTSTART;TZID=UTC:20220209T090000
DTEND;TZID=UTC:20220209T170000
DTSTAMP:20260419T121000
CREATED:20220209T192000Z
LAST-MODIFIED:20220209T192219Z
UID:930-1644397200-1644426000@concejopitalito.gov.co
SUMMARY:SES FEB 09/2022
DESCRIPTION:
URL:https://concejopitalito.gov.co/contenido/evento/ses-feb-09-2022/
END:VEVENT
END:VCALENDAR